BEGIN:VCALENDAR
VERSION:2.0
PRODID:-//World Cup - ECPv6.15.20//NONSGML v1.0//EN
CALSCALE:GREGORIAN
METHOD:PUBLISH
X-WR-CALNAME:World Cup
X-ORIGINAL-URL:https://worldcupgymnastics.com
X-WR-CALDESC:Events for World Cup
REFRESH-INTERVAL;VALUE=DURATION:PT1H
X-Robots-Tag:noindex
X-PUBLISHED-TTL:PT1H
BEGIN:VTIMEZONE
TZID:UTC
BEGIN:STANDARD
TZOFFSETFROM:+0000
TZOFFSETTO:+0000
TZNAME:UTC
DTSTART:20230101T000000
END:STANDARD
END:VTIMEZONE
BEGIN:VEVENT
DTSTART;TZID=UTC:20240914T180000
DTEND;TZID=UTC:20240914T220000
DTSTAMP:20260424T152233
CREATED:20190815T161734Z
LAST-MODIFIED:20240920T162128Z
UID:4504-1726336800-1726351200@worldcupgymnastics.com
SUMMARY:Kids Night Out! - Spin Into Fall
DESCRIPTION:Come join us September 14\, 2024 for a fun time from 6-10pm! \nKids  ages 4-12 will do gymnastics\, have pizza and an ice pop for dinner\, play Hide & Go Seek or another fun gym game\, do a craft\, and end the evening with a movie. \nYou may pick your child up anytime up to 10:00 p.m.  Signup is $5 more per child the same day as the event\, so sign up early for best availability!
URL:https://worldcupgymnastics.com/event/kids-night-out-9/
ATTACH;FMTTYPE=image/png:https://worldcupgymnastics.com/wp-content/uploads/2019/08/c41bad30-883d-9591-05cb-d87cba111f73-e1726845674555.png
END:VEVENT
END:VCALENDAR