BEGIN:VCALENDAR
VERSION:2.0
PRODID:-//World Cup - ECPv6.15.20//NONSGML v1.0//EN
CALSCALE:GREGORIAN
METHOD:PUBLISH
X-ORIGINAL-URL:https://worldcupgymnastics.com
X-WR-CALDESC:Events for World Cup
REFRESH-INTERVAL;VALUE=DURATION:PT1H
X-Robots-Tag:noindex
X-PUBLISHED-TTL:PT1H
BEGIN:VTIMEZONE
TZID:UTC
BEGIN:STANDARD
TZOFFSETFROM:+0000
TZOFFSETTO:+0000
TZNAME:UTC
DTSTART:20230101T000000
END:STANDARD
END:VTIMEZONE
BEGIN:VEVENT
DTSTART;VALUE=DATE:20241003
DTEND;VALUE=DATE:20241004
DTSTAMP:20260424T134516
CREATED:20190725T153722Z
LAST-MODIFIED:20240919T165330Z
UID:4377-1727913600-1727999999@worldcupgymnastics.com
SUMMARY:Rosh Hashana
DESCRIPTION:Rosh Hashanah – NO CLASSES
URL:https://worldcupgymnastics.com/event/rosh-hashana/
ATTACH;FMTTYPE=image/png:https://worldcupgymnastics.com/wp-content/uploads/2019/07/rh20greetings_603986_resize_990__1_-e1726764349934.png
END:VEVENT
END:VCALENDAR