BEGIN:VCALENDAR
VERSION:2.0
PRODID:-//World Cup - ECPv6.15.20//NONSGML v1.0//EN
CALSCALE:GREGORIAN
METHOD:PUBLISH
X-WR-CALNAME:World Cup
X-ORIGINAL-URL:https://worldcupgymnastics.com
X-WR-CALDESC:Events for World Cup
REFRESH-INTERVAL;VALUE=DURATION:PT1H
X-Robots-Tag:noindex
X-PUBLISHED-TTL:PT1H
BEGIN:VTIMEZONE
TZID:UTC
BEGIN:STANDARD
TZOFFSETFROM:+0000
TZOFFSETTO:+0000
TZNAME:UTC
DTSTART:20240101T000000
END:STANDARD
END:VTIMEZONE
BEGIN:VEVENT
DTSTART;VALUE=DATE:20250102
DTEND;VALUE=DATE:20250103
DTSTAMP:20260424T101148
CREATED:20230808T193326Z
LAST-MODIFIED:20240919T180640Z
UID:6803-1735776000-1735862399@worldcupgymnastics.com
SUMMARY:Classes Resume
DESCRIPTION:Welcome back! \nFirst day of our Spring Session.
URL:https://worldcupgymnastics.com/event/classes-resume/
ATTACH;FMTTYPE=image/jpeg:https://worldcupgymnastics.com/wp-content/uploads/2023/08/welcome-back.jpg
END:VEVENT
END:VCALENDAR