BEGIN:VCALENDAR
VERSION:2.0
PRODID:-//World Cup - ECPv6.15.20//NONSGML v1.0//EN
CALSCALE:GREGORIAN
METHOD:PUBLISH
X-WR-CALNAME:World Cup
X-ORIGINAL-URL:https://worldcupgymnastics.com
X-WR-CALDESC:Events for World Cup
REFRESH-INTERVAL;VALUE=DURATION:PT1H
X-Robots-Tag:noindex
X-PUBLISHED-TTL:PT1H
BEGIN:VTIMEZONE
TZID:UTC
BEGIN:STANDARD
TZOFFSETFROM:+0000
TZOFFSETTO:+0000
TZNAME:UTC
DTSTART:20240101T000000
END:STANDARD
END:VTIMEZONE
BEGIN:VEVENT
DTSTART;VALUE=DATE:20250602
DTEND;VALUE=DATE:20250603
DTSTAMP:20260424T041248
CREATED:20230808T202446Z
LAST-MODIFIED:20240919T185439Z
UID:6827-1748822400-1748908799@worldcupgymnastics.com
SUMMARY:Registration for School Year 2025-26 Session begins
DESCRIPTION:Registration for the next school year begins!
URL:https://worldcupgymnastics.com/event/registration-for-school-year-2024-25-session-begins/
ATTACH;FMTTYPE=image/png:https://worldcupgymnastics.com/wp-content/uploads/2023/08/d6481f74-3dfe-42f6-855c-7f348222c9f1.png
END:VEVENT
END:VCALENDAR