BEGIN:VCALENDAR
VERSION:2.0
PRODID:-//World Cup - ECPv6.15.20//NONSGML v1.0//EN
CALSCALE:GREGORIAN
METHOD:PUBLISH
X-WR-CALNAME:World Cup
X-ORIGINAL-URL:https://worldcupgymnastics.com
X-WR-CALDESC:Events for World Cup
REFRESH-INTERVAL;VALUE=DURATION:PT1H
X-Robots-Tag:noindex
X-PUBLISHED-TTL:PT1H
BEGIN:VTIMEZONE
TZID:UTC
BEGIN:STANDARD
TZOFFSETFROM:+0000
TZOFFSETTO:+0000
TZNAME:UTC
DTSTART:20250101T000000
END:STANDARD
END:VTIMEZONE
BEGIN:VEVENT
DTSTART;VALUE=DATE:20260109
DTEND;VALUE=DATE:20260112
DTSTAMP:20260423T192742
CREATED:20251203T201522Z
LAST-MODIFIED:20251203T201531Z
UID:7859-1767916800-1768175999@worldcupgymnastics.com
SUMMARY:GT Meet - Total Eclipse Invite
DESCRIPTION:Girls Team Away Meet – Total Eclipse Invite – Mahopac\, NY \nScratch deadline 12/8/25
URL:https://worldcupgymnastics.com/event/gt-meet-total-eclipse-invite/
ATTACH;FMTTYPE=image/jpeg:https://worldcupgymnastics.com/wp-content/uploads/2025/12/GT-Meet-Total-Eclipse.jpg
END:VEVENT
BEGIN:VEVENT
DTSTART;VALUE=DATE:20260110
DTEND;VALUE=DATE:20260112
DTSTAMP:20260423T192742
CREATED:20251203T200543Z
LAST-MODIFIED:20251203T200543Z
UID:7847-1768003200-1768175999@worldcupgymnastics.com
SUMMARY:BT Meet - NY Invitational
DESCRIPTION:Boys Team Away Meet – NY Invitational  Staten Island\, NY
URL:https://worldcupgymnastics.com/event/bt-meet-ny-invitational/
ATTACH;FMTTYPE=image/jpeg:https://worldcupgymnastics.com/wp-content/uploads/2025/12/NYInvite.jpg
END:VEVENT
BEGIN:VEVENT
DTSTART;TZID=UTC:20260110T180000
DTEND;TZID=UTC:20260110T220000
DTSTAMP:20260423T192742
CREATED:20191216T180748Z
LAST-MODIFIED:20251203T192933Z
UID:5225-1768068000-1768082400@worldcupgymnastics.com
SUMMARY:Kids Night Out! - Slumber Party
DESCRIPTION:Join us for a fun time from 6pm-10pm! \nKids ages 5-12 will do lots of gymnastics\, play Hide & Go Seek and another fun gym games\, do a craft\, have pizza and an ice pop and end the evening with a movie. \nYou may pick your child up anytime up to 10:00 p.m.  Signup is $5 more per child the same day as the event\, so sign up early for best availability!
URL:https://worldcupgymnastics.com/event/slumber-party/
ATTACH;FMTTYPE=image/jpeg:https://worldcupgymnastics.com/wp-content/uploads/2024/12/KNO-Pic-2-Copy.jpg
END:VEVENT
END:VCALENDAR