BEGIN:VCALENDAR
VERSION:2.0
PRODID:-//World Cup - ECPv6.15.20//NONSGML v1.0//EN
CALSCALE:GREGORIAN
METHOD:PUBLISH
X-WR-CALNAME:World Cup
X-ORIGINAL-URL:https://worldcupgymnastics.com
X-WR-CALDESC:Events for World Cup
REFRESH-INTERVAL;VALUE=DURATION:PT1H
X-Robots-Tag:noindex
X-PUBLISHED-TTL:PT1H
BEGIN:VTIMEZONE
TZID:UTC
BEGIN:STANDARD
TZOFFSETFROM:+0000
TZOFFSETTO:+0000
TZNAME:UTC
DTSTART:20250101T000000
END:STANDARD
END:VTIMEZONE
BEGIN:VEVENT
DTSTART;VALUE=DATE:20260112
DTEND;VALUE=DATE:20260113
DTSTAMP:20260423T192741
CREATED:20251203T194149Z
LAST-MODIFIED:20251203T194826Z
UID:7833-1768176000-1768262399@worldcupgymnastics.com
SUMMARY:Summer Camp Registration Begins
DESCRIPTION:Summer Camp Registration Begins \nSummer Camp June 29 – Sept 1
URL:https://worldcupgymnastics.com/event/summer-camp-registration-begins/
ATTACH;FMTTYPE=image/jpeg:https://worldcupgymnastics.com/wp-content/uploads/2025/12/Summer-Camp.jpg
END:VEVENT
END:VCALENDAR