BEGIN:VCALENDAR
VERSION:2.0
PRODID:-//World Cup - ECPv6.15.20//NONSGML v1.0//EN
CALSCALE:GREGORIAN
METHOD:PUBLISH
X-WR-CALNAME:World Cup
X-ORIGINAL-URL:https://worldcupgymnastics.com
X-WR-CALDESC:Events for World Cup
REFRESH-INTERVAL;VALUE=DURATION:PT1H
X-Robots-Tag:noindex
X-PUBLISHED-TTL:PT1H
BEGIN:VTIMEZONE
TZID:UTC
BEGIN:STANDARD
TZOFFSETFROM:+0000
TZOFFSETTO:+0000
TZNAME:UTC
DTSTART:20240101T000000
END:STANDARD
END:VTIMEZONE
BEGIN:VEVENT
DTSTART;VALUE=DATE:20251224
DTEND;VALUE=DATE:20251226
DTSTAMP:20260423T233753
CREATED:20251203T173554Z
LAST-MODIFIED:20251203T173554Z
UID:7811-1766534400-1766707199@worldcupgymnastics.com
SUMMARY:Christmas Gym Closed
DESCRIPTION:GYM CLOSED Dec 24 & 25
URL:https://worldcupgymnastics.com/event/christmas-gym-closed/
ATTACH;FMTTYPE=image/jpeg:https://worldcupgymnastics.com/wp-content/uploads/2025/12/2-Christmas-1.jpg
END:VEVENT
BEGIN:VEVENT
DTSTART;VALUE=DATE:20251218
DTEND;VALUE=DATE:20251219
DTSTAMP:20260423T233753
CREATED:20250602T154435Z
LAST-MODIFIED:20250602T154435Z
UID:7679-1766016000-1766102399@worldcupgymnastics.com
SUMMARY:Spring Payment for Gymnastics Classes Due
DESCRIPTION:Reminder: re-enrollment is automatic\, unless you tell us otherwise.
URL:https://worldcupgymnastics.com/event/spring-payment-for-gymnastics-classes-due/
END:VEVENT
BEGIN:VEVENT
DTSTART;VALUE=DATE:20251214
DTEND;VALUE=DATE:20251215
DTSTAMP:20260423T233753
CREATED:20250602T154323Z
LAST-MODIFIED:20250602T154323Z
UID:7677-1765670400-1765756799@worldcupgymnastics.com
SUMMARY:Hanukkah begins
DESCRIPTION:No classes 4 pm on.
URL:https://worldcupgymnastics.com/event/hanukkah-begins/
END:VEVENT
BEGIN:VEVENT
DTSTART;TZID=UTC:20251213T180000
DTEND;TZID=UTC:20251213T220000
DTSTAMP:20260423T233753
CREATED:20191216T180642Z
LAST-MODIFIED:20251203T192539Z
UID:5223-1765648800-1765663200@worldcupgymnastics.com
SUMMARY:Kids Night Out! - Jingle All  The Way
DESCRIPTION:Join us for a fun time from 6pm-10pm! \nKids ages 5-12 will do lots of gymnastics\, play Hide & Go Seek and another fun gym games\, do a craft\, have pizza and an ice pop and end the evening with a movie. \nYou may pick your child up anytime up to 10:00 p.m.  Signup is $5 more per child the same day as the event\, so sign up early for best availability!
URL:https://worldcupgymnastics.com/event/jingle-all-the-way/
ATTACH;FMTTYPE=image/jpeg:https://worldcupgymnastics.com/wp-content/uploads/2024/12/KNO-Pic-2-Copy.jpg
END:VEVENT
BEGIN:VEVENT
DTSTART;VALUE=DATE:20251210
DTEND;VALUE=DATE:20251211
DTSTAMP:20260423T233753
CREATED:20250602T154120Z
LAST-MODIFIED:20250602T154120Z
UID:7675-1765324800-1765411199@worldcupgymnastics.com
SUMMARY:No Romperee Classes (Nursery School's Holiday Sing-a-long)
DESCRIPTION:
URL:https://worldcupgymnastics.com/event/no-romperee-classes-nursery-schools-holiday-sing-a-long/
END:VEVENT
BEGIN:VEVENT
DTSTART;TZID=UTC:20251206T180000
DTEND;TZID=UTC:20251206T220000
DTSTAMP:20260423T233753
CREATED:20241218T162008Z
LAST-MODIFIED:20251203T192306Z
UID:7505-1765044000-1765058400@worldcupgymnastics.com
SUMMARY:Kid's Night Out - Paint Your Own Ornament
DESCRIPTION:Join us for a fun time from 6pm-10pm! \nKids ages 5-12 will do lots of gymnastics\, play Hide & Go Seek and another fun gym games\, do a craft\, have pizza and an ice pop and end the evening with a movie. \nYou may pick your child up anytime up to 10:00 p.m.  Signup is $5 more per child the same day as the event\, so sign up early for best availability!
URL:https://worldcupgymnastics.com/event/paint-your-own-ornament/
ATTACH;FMTTYPE=image/jpeg:https://worldcupgymnastics.com/wp-content/uploads/2024/12/KNO-Pic-2-Copy.jpg
END:VEVENT
BEGIN:VEVENT
DTSTART;VALUE=DATE:20251206
DTEND;VALUE=DATE:20251208
DTSTAMP:20260423T233753
CREATED:20251203T200034Z
LAST-MODIFIED:20251203T200253Z
UID:7842-1764979200-1765151999@worldcupgymnastics.com
SUMMARY:GT Meet - Greater NY Invite
DESCRIPTION:Girls Team Away Meet – Greater NY Invite  Suffern\, NY \nScratch deadline 11/3/25
URL:https://worldcupgymnastics.com/event/gt-meet-greater-ny-invite/
ATTACH;FMTTYPE=image/jpeg:https://worldcupgymnastics.com/wp-content/uploads/2025/12/greater-NY-Invite.jpg
END:VEVENT
BEGIN:VEVENT
DTSTART;VALUE=DATE:20251205
DTEND;VALUE=DATE:20251206
DTSTAMP:20260423T233753
CREATED:20250602T153733Z
LAST-MODIFIED:20251203T171611Z
UID:7673-1764892800-1764979199@worldcupgymnastics.com
SUMMARY:Staff Holiday Party
DESCRIPTION:No Recreational Classes after 4pm.  Teams check with coaches.
URL:https://worldcupgymnastics.com/event/staff-holiday-party/
ATTACH;FMTTYPE=image/jpeg:https://worldcupgymnastics.com/wp-content/uploads/2025/06/1-Office-Holiday-Party.jpg
END:VEVENT
BEGIN:VEVENT
DTSTART;VALUE=DATE:20251127
DTEND;VALUE=DATE:20251201
DTSTAMP:20260423T233753
CREATED:20250602T153557Z
LAST-MODIFIED:20250602T153557Z
UID:7671-1764201600-1764547199@worldcupgymnastics.com
SUMMARY:Thanksgiving Weekend
DESCRIPTION:No classes.
URL:https://worldcupgymnastics.com/event/thanksgiving-weekend/
END:VEVENT
BEGIN:VEVENT
DTSTART;VALUE=DATE:20251111
DTEND;VALUE=DATE:20251112
DTSTAMP:20260423T233753
CREATED:20250602T153453Z
LAST-MODIFIED:20250602T153453Z
UID:7669-1762819200-1762905599@worldcupgymnastics.com
SUMMARY:Veteran's Day
DESCRIPTION:No classes.
URL:https://worldcupgymnastics.com/event/veterans-day/
END:VEVENT
BEGIN:VEVENT
DTSTART;VALUE=DATE:20251031
DTEND;VALUE=DATE:20251101
DTSTAMP:20260423T233753
CREATED:20250602T150504Z
LAST-MODIFIED:20250602T150504Z
UID:7663-1761868800-1761955199@worldcupgymnastics.com
SUMMARY:Halloween
DESCRIPTION:Preschool & Pre-Rec. 1 classes running; no classes or practice 4 pm on.
URL:https://worldcupgymnastics.com/event/halloween/
END:VEVENT
BEGIN:VEVENT
DTSTART;VALUE=DATE:20251013
DTEND;VALUE=DATE:20251014
DTSTAMP:20260423T233753
CREATED:20250602T150339Z
LAST-MODIFIED:20250602T150339Z
UID:7661-1760313600-1760399999@worldcupgymnastics.com
SUMMARY:Indigenous Peoples' (Columbus) Day
DESCRIPTION:No classes.
URL:https://worldcupgymnastics.com/event/indigenous-peoples-columbus-day/
END:VEVENT
BEGIN:VEVENT
DTSTART;VALUE=DATE:20251002
DTEND;VALUE=DATE:20251003
DTSTAMP:20260423T233753
CREATED:20250602T150213Z
LAST-MODIFIED:20250602T150247Z
UID:7658-1759363200-1759449599@worldcupgymnastics.com
SUMMARY:Yom Kippur
DESCRIPTION:No classes.
URL:https://worldcupgymnastics.com/event/yom-kippur/
END:VEVENT
BEGIN:VEVENT
DTSTART;VALUE=DATE:20251001
DTEND;VALUE=DATE:20251002
DTSTAMP:20260423T233753
CREATED:20250602T150145Z
LAST-MODIFIED:20250602T150145Z
UID:7656-1759276800-1759363199@worldcupgymnastics.com
SUMMARY:Yom Kippur Begins
DESCRIPTION:No classes 4pm on.
URL:https://worldcupgymnastics.com/event/yom-kippur-begins/
END:VEVENT
BEGIN:VEVENT
DTSTART;VALUE=DATE:20250923
DTEND;VALUE=DATE:20250924
DTSTAMP:20260423T233753
CREATED:20250602T150059Z
LAST-MODIFIED:20250602T150059Z
UID:7654-1758585600-1758671999@worldcupgymnastics.com
SUMMARY:Rosh Hashanah
DESCRIPTION:No classes
URL:https://worldcupgymnastics.com/event/rosh-hashanah/
END:VEVENT
BEGIN:VEVENT
DTSTART;VALUE=DATE:20250922
DTEND;VALUE=DATE:20250923
DTSTAMP:20260423T233753
CREATED:20250602T150029Z
LAST-MODIFIED:20250602T150029Z
UID:7652-1758499200-1758585599@worldcupgymnastics.com
SUMMARY:Rosh Hashanah Begins
DESCRIPTION:No classes from 4 pm on.
URL:https://worldcupgymnastics.com/event/rosh-hashanah-begins/
END:VEVENT
BEGIN:VEVENT
DTSTART;VALUE=DATE:20250902
DTEND;VALUE=DATE:20250903
DTSTAMP:20260423T233753
CREATED:20250602T145936Z
LAST-MODIFIED:20250602T145936Z
UID:7649-1756771200-1756857599@worldcupgymnastics.com
SUMMARY:First day of Fall Gymnastics Classes
DESCRIPTION:
URL:https://worldcupgymnastics.com/event/first-day-of-fall-gymnastics-classes/
END:VEVENT
BEGIN:VEVENT
DTSTART;VALUE=DATE:20250901
DTEND;VALUE=DATE:20250902
DTSTAMP:20260423T233753
CREATED:20190725T144907Z
LAST-MODIFIED:20241009T185103Z
UID:4367-1756684800-1756771199@worldcupgymnastics.com
SUMMARY:Labor Day
DESCRIPTION:GYM CLOSED.
URL:https://worldcupgymnastics.com/event/labor-day-2/
ATTACH;FMTTYPE=image/jpeg:https://worldcupgymnastics.com/wp-content/uploads/2019/07/labor-day.jpg
END:VEVENT
BEGIN:VEVENT
DTSTART;VALUE=DATE:20250826
DTEND;VALUE=DATE:20250827
DTSTAMP:20260423T233753
CREATED:20230413T125244Z
LAST-MODIFIED:20241009T191209Z
UID:6700-1756166400-1756252799@worldcupgymnastics.com
SUMMARY:Last Day of Camp
DESCRIPTION:
URL:https://worldcupgymnastics.com/event/last-day-of-camp/
END:VEVENT
BEGIN:VEVENT
DTSTART;VALUE=DATE:20250630
DTEND;VALUE=DATE:20250701
DTSTAMP:20260423T233753
CREATED:20230808T202615Z
LAST-MODIFIED:20240919T192725Z
UID:6834-1751241600-1751327999@worldcupgymnastics.com
SUMMARY:First day of Summer Session 2025
DESCRIPTION:Welcome to Summer! \nSummer Classes run Monday June 30th – Friday August 22nd\, 2025. \nSummer Camp runs Monday June 30th\, 2025 through Tuesday\, August 26th\, 2025. \nThe Fall 2025 session begins Tuesday\, September 2nd\, 2025.
URL:https://worldcupgymnastics.com/event/first-day-of-summer-session-2024-and-camps/
ATTACH;FMTTYPE=image/jpeg:https://worldcupgymnastics.com/wp-content/uploads/2023/08/istockphoto-1394360848-612x612-1.jpg
END:VEVENT
BEGIN:VEVENT
DTSTART;VALUE=DATE:20250625
DTEND;VALUE=DATE:20250626
DTSTAMP:20260423T233753
CREATED:20221007T132615Z
LAST-MODIFIED:20240919T190104Z
UID:6486-1750809600-1750895999@worldcupgymnastics.com
SUMMARY:Last Day of School Year Session
DESCRIPTION:Last Day of School Year!  See you in the Summer!
URL:https://worldcupgymnastics.com/event/last-day-of-school-year-session/
ATTACH;FMTTYPE=image/jpeg:https://worldcupgymnastics.com/wp-content/uploads/2022/10/last-day-rubber-stamp-seal-vector.jpg
END:VEVENT
BEGIN:VEVENT
DTSTART;VALUE=DATE:20250619
DTEND;VALUE=DATE:20250620
DTSTAMP:20260423T233753
CREATED:20221007T132525Z
LAST-MODIFIED:20240919T185756Z
UID:6484-1750291200-1750377599@worldcupgymnastics.com
SUMMARY:Juneteenth
DESCRIPTION:NO CLASSES \nNO TEAM PRACTICE
URL:https://worldcupgymnastics.com/event/juneteenth/
ATTACH;FMTTYPE=image/jpeg:https://worldcupgymnastics.com/wp-content/uploads/2022/10/AboutMobile_1023X960_Juneteenth.jpg
END:VEVENT
BEGIN:VEVENT
DTSTART;VALUE=DATE:20250602
DTEND;VALUE=DATE:20250603
DTSTAMP:20260423T233753
CREATED:20230808T202446Z
LAST-MODIFIED:20240919T185439Z
UID:6827-1748822400-1748908799@worldcupgymnastics.com
SUMMARY:Registration for School Year 2025-26 Session begins
DESCRIPTION:Registration for the next school year begins!
URL:https://worldcupgymnastics.com/event/registration-for-school-year-2024-25-session-begins/
ATTACH;FMTTYPE=image/png:https://worldcupgymnastics.com/wp-content/uploads/2023/08/d6481f74-3dfe-42f6-855c-7f348222c9f1.png
END:VEVENT
BEGIN:VEVENT
DTSTART;TZID=UTC:20250524T000000
DTEND;TZID=UTC:20250526T000000
DTSTAMP:20260423T233753
CREATED:20230808T202336Z
LAST-MODIFIED:20240919T185029Z
UID:6825-1748044800-1748217600@worldcupgymnastics.com
SUMMARY:Memorial Day Weekend
DESCRIPTION:NO CLASSES \nTeam Practice SATURDAY ONLY
URL:https://worldcupgymnastics.com/event/memorial-day-weekend-5/
ATTACH;FMTTYPE=image/jpeg:https://worldcupgymnastics.com/wp-content/uploads/2023/08/istockphoto-1395368823-612x612-1.jpg
END:VEVENT
BEGIN:VEVENT
DTSTART;TZID=UTC:20250501T080000
DTEND;TZID=UTC:20250501T170000
DTSTAMP:20260423T233753
CREATED:20241009T190220Z
LAST-MODIFIED:20241009T190220Z
UID:7431-1746086400-1746118800@worldcupgymnastics.com
SUMMARY:Registration for Summer Classes Begins
DESCRIPTION:Classes now available for registration\, check with your Program Manager to be sure to secure a spot.
URL:https://worldcupgymnastics.com/event/registration-for-summer-classes-begins-2/
ATTACH;FMTTYPE=image/jpeg:https://worldcupgymnastics.com/wp-content/uploads/2023/08/istockphoto-1394360848-612x612-1.jpg
END:VEVENT
BEGIN:VEVENT
DTSTART;VALUE=DATE:20250418
DTEND;VALUE=DATE:20250421
DTSTAMP:20260423T233753
CREATED:20200918T191818Z
LAST-MODIFIED:20240919T184254Z
UID:5705-1744934400-1745193599@worldcupgymnastics.com
SUMMARY:EASTER WEEKEND
DESCRIPTION:NO CLASSES \nNO TEAM PRACTICE
URL:https://worldcupgymnastics.com/event/easter-weekend-2/
ATTACH;FMTTYPE=image/jpeg:https://worldcupgymnastics.com/wp-content/uploads/2020/09/360_F_575668056_5J8cddK8BwPuAFSMA9EAeJdADRugVhTq.jpg
END:VEVENT
BEGIN:VEVENT
DTSTART;TZID=UTC:20250414T080000
DTEND;TZID=UTC:20250417T170000
DTSTAMP:20260423T233753
CREATED:20190801T153352Z
LAST-MODIFIED:20240919T184034Z
UID:4459-1744617600-1744909200@worldcupgymnastics.com
SUMMARY:Spring Break
DESCRIPTION:Spring Break – Classes running normally
URL:https://worldcupgymnastics.com/event/spring-break/
ATTACH;FMTTYPE=image/jpeg:https://worldcupgymnastics.com/wp-content/uploads/2019/08/spring-break.jpg
END:VEVENT
BEGIN:VEVENT
DTSTART;VALUE=DATE:20250413
DTEND;VALUE=DATE:20250414
DTSTAMP:20260423T233753
CREATED:20230808T201336Z
LAST-MODIFIED:20250409T164033Z
UID:6821-1744502400-1744588799@worldcupgymnastics.com
SUMMARY:Passover
DESCRIPTION:No classes.
URL:https://worldcupgymnastics.com/event/passover/
ATTACH;FMTTYPE=image/jpeg:https://worldcupgymnastics.com/wp-content/uploads/2023/08/Passover.jpg
END:VEVENT
BEGIN:VEVENT
DTSTART;TZID=UTC:20250222T080000
DTEND;TZID=UTC:20250222T200000
DTSTAMP:20260423T233753
CREATED:20230808T195120Z
LAST-MODIFIED:20250115T232538Z
UID:6813-1740211200-1740254400@worldcupgymnastics.com
SUMMARY:World Cup Challenge - Boys Meet
DESCRIPTION:NO CLASSES \nNO TEAM PRACTICE \nNO BIRTHDAY PARTIES
URL:https://worldcupgymnastics.com/event/world-cup-challenge-boys-meet/
ATTACH;FMTTYPE=image/png:https://worldcupgymnastics.com/wp-content/uploads/2023/08/WCC-14-cover.png
END:VEVENT
BEGIN:VEVENT
DTSTART;VALUE=DATE:20250218
DTEND;VALUE=DATE:20250224
DTSTAMP:20260423T233753
CREATED:20221007T130048Z
LAST-MODIFIED:20240919T183339Z
UID:6471-1739836800-1740355199@worldcupgymnastics.com
SUMMARY:Winter Break
DESCRIPTION:Classes running on normal schedule.
URL:https://worldcupgymnastics.com/event/winter-break/
ATTACH;FMTTYPE=image/jpeg:https://worldcupgymnastics.com/wp-content/uploads/2022/10/istockphoto-1831776423-612x612-1.jpg
END:VEVENT
END:VCALENDAR