BEGIN:VCALENDAR
VERSION:2.0
PRODID:-//World Cup - ECPv6.15.20//NONSGML v1.0//EN
CALSCALE:GREGORIAN
METHOD:PUBLISH
X-ORIGINAL-URL:https://worldcupgymnastics.com
X-WR-CALDESC:Events for World Cup
REFRESH-INTERVAL;VALUE=DURATION:PT1H
X-Robots-Tag:noindex
X-PUBLISHED-TTL:PT1H
BEGIN:VTIMEZONE
TZID:UTC
BEGIN:STANDARD
TZOFFSETFROM:+0000
TZOFFSETTO:+0000
TZNAME:UTC
DTSTART:20250101T000000
END:STANDARD
END:VTIMEZONE
BEGIN:VEVENT
DTSTART;VALUE=DATE:20260116
DTEND;VALUE=DATE:20260119
DTSTAMP:20260423T205837
CREATED:20251203T202032Z
LAST-MODIFIED:20251203T202946Z
UID:7863-1768521600-1768780799@worldcupgymnastics.com
SUMMARY:GT Meet - Cape Cod Classic
DESCRIPTION:Girls Team Away Meet – Cape Cod Classic – Host Cape Cod Gymnastics – Hyannis\, MA \nScratch Deadline 11/6/25
URL:https://worldcupgymnastics.com/event/gt-meet-cape-cod-classic/
END:VEVENT
BEGIN:VEVENT
DTSTART;VALUE=DATE:20260119
DTEND;VALUE=DATE:20260120
DTSTAMP:20260423T205837
CREATED:20250602T155012Z
LAST-MODIFIED:20251203T195043Z
UID:7683-1768780800-1768867199@worldcupgymnastics.com
SUMMARY:Martin Luther King Jr. Day
DESCRIPTION:No Romperee\, Preschool & Recreational Classes.  Teams check with coaches.
URL:https://worldcupgymnastics.com/event/martin-luther-king-jr-day-2/
ATTACH;FMTTYPE=image/jpeg:https://worldcupgymnastics.com/wp-content/uploads/2025/06/2-MLKing-Day-1-Copy.jpg
END:VEVENT
BEGIN:VEVENT
DTSTART;TZID=UTC:20260124T180000
DTEND;TZID=UTC:20260124T220000
DTSTAMP:20260423T205837
CREATED:20191216T180153Z
LAST-MODIFIED:20251203T193217Z
UID:5220-1769277600-1769292000@worldcupgymnastics.com
SUMMARY:Kids Night Out! - Freeze Frame
DESCRIPTION:Join us for a fun time from 6pm-10pm! \nKids ages 5-12 will do lots of gymnastics\, play Hide & Go Seek and another fun gym games\, do a craft\, have pizza and an ice pop and end the evening with a movie. \nYou may pick your child up anytime up to 10:00 p.m.  Signup is $5 more per child the same day as the event\, so sign up early for best availability!
URL:https://worldcupgymnastics.com/event/freeze-frame/
ATTACH;FMTTYPE=image/jpeg:https://worldcupgymnastics.com/wp-content/uploads/2024/12/KNO-Pic-2-Copy.jpg
END:VEVENT
BEGIN:VEVENT
DTSTART;VALUE=DATE:20260125
DTEND;VALUE=DATE:20260126
DTSTAMP:20260423T205837
CREATED:20250602T155239Z
LAST-MODIFIED:20250602T155239Z
UID:7685-1769299200-1769385599@worldcupgymnastics.com
SUMMARY:Last Day of Fall session
DESCRIPTION:
URL:https://worldcupgymnastics.com/event/last-day-of-fall-session-2/
END:VEVENT
BEGIN:VEVENT
DTSTART;VALUE=DATE:20260126
DTEND;VALUE=DATE:20260127
DTSTAMP:20260423T205837
CREATED:20250602T155305Z
LAST-MODIFIED:20251203T193526Z
UID:7687-1769385600-1769471999@worldcupgymnastics.com
SUMMARY:Spring Session Begins
DESCRIPTION:Spring Session Jan 26 – June 24
URL:https://worldcupgymnastics.com/event/spring-session-begins-2/
ATTACH;FMTTYPE=image/jpeg:https://worldcupgymnastics.com/wp-content/uploads/2025/06/3-Spring-Sesion-1.jpg
END:VEVENT
BEGIN:VEVENT
DTSTART;VALUE=DATE:20260131
DTEND;VALUE=DATE:20260202
DTSTAMP:20260423T205837
CREATED:20251203T200847Z
LAST-MODIFIED:20251203T200847Z
UID:7851-1769817600-1769990399@worldcupgymnastics.com
SUMMARY:BT Meet - Beast of the East
DESCRIPTION:Boys Team Away Meet – Beast of the East  – Host Hotshots – Plainview\, NY
URL:https://worldcupgymnastics.com/event/bt-meet-beast-of-the-east/
ATTACH;FMTTYPE=image/jpeg:https://worldcupgymnastics.com/wp-content/uploads/2025/12/Beast-of-the-east.jpg
END:VEVENT
BEGIN:VEVENT
DTSTART;VALUE=DATE:20260207
DTEND;VALUE=DATE:20260209
DTSTAMP:20260423T205837
CREATED:20250602T155722Z
LAST-MODIFIED:20251203T164552Z
UID:7695-1770422400-1770595199@worldcupgymnastics.com
SUMMARY:World Cup Classic Girls Home Meet
DESCRIPTION:Date tentative. No classes\, no parties.
URL:https://worldcupgymnastics.com/event/josh-ward-invitational-girls-home-meet/
END:VEVENT
BEGIN:VEVENT
DTSTART;TZID=UTC:20260214T180000
DTEND;TZID=UTC:20260214T220000
DTSTAMP:20260423T205837
CREATED:20190815T162004Z
LAST-MODIFIED:20251203T202616Z
UID:4508-1771092000-1771106400@worldcupgymnastics.com
SUMMARY:Kids Night Out! - Happy Valentines Day!
DESCRIPTION:Join us for a fun time from 6pm-10pm! \nKids ages 5-12 will do lots of gymnastics\, play Hide & Go Seek and another fun gym games\, do a craft\, have pizza and an ice pop and end the evening with a movie. \nYou may pick your child up anytime up to 10:00 p.m.  Signup is $5 more per child the same day as the event\, so sign up early for best availability!
URL:https://worldcupgymnastics.com/event/kids-night-out-happy-valentines-day/
ATTACH;FMTTYPE=image/jpeg:https://worldcupgymnastics.com/wp-content/uploads/2024/12/KNO-Pic-2-Copy.jpg
END:VEVENT
BEGIN:VEVENT
DTSTART;VALUE=DATE:20260216
DTEND;VALUE=DATE:20260217
DTSTAMP:20260423T205837
CREATED:20250602T155425Z
LAST-MODIFIED:20250602T155425Z
UID:7689-1771200000-1771286399@worldcupgymnastics.com
SUMMARY:President's Day
DESCRIPTION:No classes or team practice.
URL:https://worldcupgymnastics.com/event/presidents-day-2/
END:VEVENT
BEGIN:VEVENT
DTSTART;VALUE=DATE:20260217
DTEND;VALUE=DATE:20260223
DTSTAMP:20260423T205837
CREATED:20250602T155508Z
LAST-MODIFIED:20250602T155738Z
UID:7691-1771286400-1771804799@worldcupgymnastics.com
SUMMARY:Winter Break (Classes are running)
DESCRIPTION:
URL:https://worldcupgymnastics.com/event/winter-break-classes-are-running/
END:VEVENT
BEGIN:VEVENT
DTSTART;TZID=UTC:20260221T180000
DTEND;TZID=UTC:20260221T220000
DTSTAMP:20260423T205837
CREATED:20190815T161857Z
LAST-MODIFIED:20251203T202758Z
UID:4506-1771696800-1771711200@worldcupgymnastics.com
SUMMARY:Kids Night Out! - Do You Want To Build A Snowman?
DESCRIPTION:Join us for a fun time from 6pm-10pm! \nKids ages 5-12 will do lots of gymnastics\, play Hide & Go Seek and another fun gym games\, do a craft\, have pizza and an ice pop and end the evening with a movie. \nYou may pick your child up anytime up to 10:00 p.m.  Signup is $5 more per child the same day as the event\, so sign up early for best availability!
URL:https://worldcupgymnastics.com/event/kids-night-out-build-a-snowman/
ATTACH;FMTTYPE=image/jpeg:https://worldcupgymnastics.com/wp-content/uploads/2024/12/KNO-Pic-2-Copy.jpg
END:VEVENT
BEGIN:VEVENT
DTSTART;VALUE=DATE:20260228
DTEND;VALUE=DATE:20260301
DTSTAMP:20260423T205837
CREATED:20251203T201120Z
LAST-MODIFIED:20260211T201633Z
UID:7855-1772236800-1772323199@worldcupgymnastics.com
SUMMARY:BT Meet - World Cup Challenge
DESCRIPTION:Boys Team Home Meet – World Cup Challenge – Chappaqua\, NY
URL:https://worldcupgymnastics.com/event/bt-meet-world-cup-challenge/
ATTACH;FMTTYPE=image/jpeg:https://worldcupgymnastics.com/wp-content/uploads/2025/12/1-World-Cup-Challenge-1.jpg
END:VEVENT
BEGIN:VEVENT
DTSTART;VALUE=DATE:20260228
DTEND;VALUE=DATE:20260301
DTSTAMP:20260423T205837
CREATED:20260211T201620Z
LAST-MODIFIED:20260211T201620Z
UID:7960-1772236800-1772323199@worldcupgymnastics.com
SUMMARY:No Open Gym
DESCRIPTION:
URL:https://worldcupgymnastics.com/event/no-open-gym/
END:VEVENT
BEGIN:VEVENT
DTSTART;VALUE=DATE:20260301
DTEND;VALUE=DATE:20260302
DTSTAMP:20260423T205837
CREATED:20260211T201022Z
LAST-MODIFIED:20260211T201026Z
UID:7957-1772323200-1772409599@worldcupgymnastics.com
SUMMARY:Classes Reinstated (Make-Up Day)
DESCRIPTION:
URL:https://worldcupgymnastics.com/event/classes-reinstated-make-up-day/
END:VEVENT
BEGIN:VEVENT
DTSTART;VALUE=DATE:20260401
DTEND;VALUE=DATE:20260402
DTSTAMP:20260423T205837
CREATED:20250602T155832Z
LAST-MODIFIED:20250602T155832Z
UID:7697-1775001600-1775087999@worldcupgymnastics.com
SUMMARY:Passover begins
DESCRIPTION:Preschool classes running; no classes 4 pm on.
URL:https://worldcupgymnastics.com/event/passover-begins/
END:VEVENT
BEGIN:VEVENT
DTSTART;VALUE=DATE:20260402
DTEND;VALUE=DATE:20260406
DTSTAMP:20260423T205837
CREATED:20250602T155908Z
LAST-MODIFIED:20250602T155908Z
UID:7699-1775088000-1775433599@worldcupgymnastics.com
SUMMARY:Passover & Easter Weekend
DESCRIPTION:No classes.
URL:https://worldcupgymnastics.com/event/passover-easter-weekend/
END:VEVENT
BEGIN:VEVENT
DTSTART;TZID=UTC:20260425T131500
DTEND;TZID=UTC:20260425T151500
DTSTAMP:20260423T205837
CREATED:20190927T185505Z
LAST-MODIFIED:20260422T151237Z
UID:4836-1777122900-1777130100@worldcupgymnastics.com
SUMMARY:Open House!
DESCRIPTION:Come join us for some FREE gymnastics time in our spacious facility.  We will have group and individual activities for kids of ALL AGES with parents welcome!
URL:https://worldcupgymnastics.com/event/open-house/
ATTACH;FMTTYPE=image/webp:https://worldcupgymnastics.com/wp-content/uploads/2019/09/Open-House.webp
END:VEVENT
BEGIN:VEVENT
DTSTART;VALUE=DATE:20260501
DTEND;VALUE=DATE:20260502
DTSTAMP:20260423T205837
CREATED:20250602T160356Z
LAST-MODIFIED:20250602T160356Z
UID:7701-1777593600-1777679999@worldcupgymnastics.com
SUMMARY:Registration for Summer Classes Begins
DESCRIPTION:
URL:https://worldcupgymnastics.com/event/registration-for-summer-classes-begins/
END:VEVENT
BEGIN:VEVENT
DTSTART;VALUE=DATE:20260523
DTEND;VALUE=DATE:20260526
DTSTAMP:20260423T205837
CREATED:20250602T160856Z
LAST-MODIFIED:20250602T160856Z
UID:7703-1779494400-1779753599@worldcupgymnastics.com
SUMMARY:Memorial Day Weekend
DESCRIPTION:No Classes\, only teams on Saturday
URL:https://worldcupgymnastics.com/event/memorial-day-weekend/
END:VEVENT
BEGIN:VEVENT
DTSTART;VALUE=DATE:20260601
DTEND;VALUE=DATE:20260602
DTSTAMP:20260423T205837
CREATED:20250602T160929Z
LAST-MODIFIED:20250602T160929Z
UID:7705-1780272000-1780358399@worldcupgymnastics.com
SUMMARY:Registration for School Year 2026-27 Begins
DESCRIPTION:
URL:https://worldcupgymnastics.com/event/registration-for-school-year-2026-27-begins/
END:VEVENT
BEGIN:VEVENT
DTSTART;VALUE=DATE:20260619
DTEND;VALUE=DATE:20260620
DTSTAMP:20260423T205837
CREATED:20250602T160958Z
LAST-MODIFIED:20250602T160958Z
UID:7707-1781827200-1781913599@worldcupgymnastics.com
SUMMARY:Juneteenth
DESCRIPTION:No Classes.
URL:https://worldcupgymnastics.com/event/juneteenth-2/
END:VEVENT
BEGIN:VEVENT
DTSTART;VALUE=DATE:20260624
DTEND;VALUE=DATE:20260625
DTSTAMP:20260423T205837
CREATED:20250602T161043Z
LAST-MODIFIED:20250602T161043Z
UID:7709-1782259200-1782345599@worldcupgymnastics.com
SUMMARY:Last Day of School Year / Spring Session
DESCRIPTION:
URL:https://worldcupgymnastics.com/event/last-day-of-school-year-spring-session/
END:VEVENT
BEGIN:VEVENT
DTSTART;VALUE=DATE:20260629
DTEND;VALUE=DATE:20260630
DTSTAMP:20260423T205837
CREATED:20250602T161109Z
LAST-MODIFIED:20250602T161109Z
UID:7711-1782691200-1782777599@worldcupgymnastics.com
SUMMARY:First Day of Summer Session 2026 & Camps
DESCRIPTION:
URL:https://worldcupgymnastics.com/event/first-day-of-summer-session-2026-camps/
END:VEVENT
BEGIN:VEVENT
DTSTART;VALUE=DATE:20260828
DTEND;VALUE=DATE:20260829
DTSTAMP:20260423T205837
CREATED:20250602T161156Z
LAST-MODIFIED:20250602T161156Z
UID:7713-1787875200-1787961599@worldcupgymnastics.com
SUMMARY:Last Day of Summer Classes & Camps
DESCRIPTION:
URL:https://worldcupgymnastics.com/event/last-day-of-summer-classes-camps/
END:VEVENT
BEGIN:VEVENT
DTSTART;VALUE=DATE:20260908
DTEND;VALUE=DATE:20260909
DTSTAMP:20260423T205837
CREATED:20250602T161236Z
LAST-MODIFIED:20250602T161236Z
UID:7715-1788825600-1788911999@worldcupgymnastics.com
SUMMARY:Fall Session Begins
DESCRIPTION:
URL:https://worldcupgymnastics.com/event/fall-session-begins/
END:VEVENT
END:VCALENDAR