BEGIN:VCALENDAR
VERSION:2.0
PRODID:-//World Cup - ECPv6.15.20//NONSGML v1.0//EN
CALSCALE:GREGORIAN
METHOD:PUBLISH
X-WR-CALNAME:World Cup
X-ORIGINAL-URL:https://worldcupgymnastics.com
X-WR-CALDESC:Events for World Cup
REFRESH-INTERVAL;VALUE=DURATION:PT1H
X-Robots-Tag:noindex
X-PUBLISHED-TTL:PT1H
BEGIN:VTIMEZONE
TZID:UTC
BEGIN:STANDARD
TZOFFSETFROM:+0000
TZOFFSETTO:+0000
TZNAME:UTC
DTSTART:20220101T000000
END:STANDARD
END:VTIMEZONE
BEGIN:VEVENT
DTSTART;TZID=UTC:20240903T080000
DTEND;TZID=UTC:20240903T170000
DTSTAMP:20260423T233245
CREATED:20240919T165833Z
LAST-MODIFIED:20240919T165833Z
UID:7300-1725350400-1725382800@worldcupgymnastics.com
SUMMARY:First Day of Fall Gymnastics
DESCRIPTION:Welcome to our Fall Session!
URL:https://worldcupgymnastics.com/event/first-day-of-fall-gymnastics/
ATTACH;FMTTYPE=image/jpeg:https://worldcupgymnastics.com/wp-content/uploads/2024/09/1000_F_447523303_egzowSK36yntTwIkDwedDqwO1VbLNGRr-e1726765094128.jpg
END:VEVENT
BEGIN:VEVENT
DTSTART;VALUE=DATE:20240815
DTEND;VALUE=DATE:20240816
DTSTAMP:20260423T233245
CREATED:20240701T184328Z
LAST-MODIFIED:20240701T184328Z
UID:7260-1723680000-1723766399@worldcupgymnastics.com
SUMMARY:Field Trip: The Cliffs at Valhalla
DESCRIPTION:
URL:https://worldcupgymnastics.com/event/field-trip-the-cliffs-at-valhalla/
END:VEVENT
BEGIN:VEVENT
DTSTART;VALUE=DATE:20240801
DTEND;VALUE=DATE:20240802
DTSTAMP:20260423T233245
CREATED:20240701T183928Z
LAST-MODIFIED:20240701T183928Z
UID:7254-1722470400-1722556799@worldcupgymnastics.com
SUMMARY:Field Trip: Grit Ninja
DESCRIPTION:
URL:https://worldcupgymnastics.com/event/field-trip-grit-ninja/
END:VEVENT
BEGIN:VEVENT
DTSTART;VALUE=DATE:20240725
DTEND;VALUE=DATE:20240726
DTSTAMP:20260423T233245
CREATED:20240701T182050Z
LAST-MODIFIED:20240701T182416Z
UID:7247-1721865600-1721951999@worldcupgymnastics.com
SUMMARY:Field Trip: Pottery Factory
DESCRIPTION:
URL:https://worldcupgymnastics.com/event/week-4-go-for-olympic-gold/
END:VEVENT
BEGIN:VEVENT
DTSTART;VALUE=DATE:20240710
DTEND;VALUE=DATE:20240711
DTSTAMP:20260423T233245
CREATED:20240701T180859Z
LAST-MODIFIED:20240701T180859Z
UID:7242-1720569600-1720655999@worldcupgymnastics.com
SUMMARY:Field Trip: Cortlandt Lanes
DESCRIPTION:
URL:https://worldcupgymnastics.com/event/field-trip-cortlandt-lanes/
END:VEVENT
BEGIN:VEVENT
DTSTART;VALUE=DATE:20240704
DTEND;VALUE=DATE:20240705
DTSTAMP:20260423T233245
CREATED:20240701T180505Z
LAST-MODIFIED:20240701T180505Z
UID:7236-1720051200-1720137599@worldcupgymnastics.com
SUMMARY:Fourth Of July
DESCRIPTION:No Classes.
URL:https://worldcupgymnastics.com/event/fourth-of-july/
END:VEVENT
BEGIN:VEVENT
DTSTART;VALUE=DATE:20240128
DTEND;VALUE=DATE:20240129
DTSTAMP:20260423T233245
CREATED:20230808T194812Z
LAST-MODIFIED:20230808T194812Z
UID:6807-1706400000-1706486399@worldcupgymnastics.com
SUMMARY:Last day of Fall Session
DESCRIPTION:
URL:https://worldcupgymnastics.com/event/last-day-of-fall-session/
END:VEVENT
BEGIN:VEVENT
DTSTART;VALUE=DATE:20230824
DTEND;VALUE=DATE:20230825
DTSTAMP:20260423T233245
CREATED:20230413T152936Z
LAST-MODIFIED:20230413T152936Z
UID:6710-1692835200-1692921599@worldcupgymnastics.com
SUMMARY:Field Trip: Rock Climbing at The Cliffs at Valhalla
DESCRIPTION:
URL:https://worldcupgymnastics.com/event/field-trip-rock-climbing-at-the-cliffs-at-valhalla/
END:VEVENT
BEGIN:VEVENT
DTSTART;VALUE=DATE:20230810
DTEND;VALUE=DATE:20230811
DTSTAMP:20260423T233245
CREATED:20230413T124917Z
LAST-MODIFIED:20230413T124917Z
UID:6696-1691625600-1691711999@worldcupgymnastics.com
SUMMARY:Field Trip: Bowling and Lunch at Cortlandt Lanes
DESCRIPTION:
URL:https://worldcupgymnastics.com/event/field-trip-bowling-and-lunch-at-cortlandt-lanes/
END:VEVENT
BEGIN:VEVENT
DTSTART;VALUE=DATE:20230726
DTEND;VALUE=DATE:20230727
DTSTAMP:20260423T233245
CREATED:20230413T124635Z
LAST-MODIFIED:20230413T124635Z
UID:6694-1690329600-1690415999@worldcupgymnastics.com
SUMMARY:Field Trip: Maritime Aquarium in Norwalk
DESCRIPTION:
URL:https://worldcupgymnastics.com/event/field-trip-maritime-aquarium-in-norwalk/
END:VEVENT
BEGIN:VEVENT
DTSTART;VALUE=DATE:20230713
DTEND;VALUE=DATE:20230714
DTSTAMP:20260423T233245
CREATED:20230413T124428Z
LAST-MODIFIED:20230413T124428Z
UID:6692-1689206400-1689292799@worldcupgymnastics.com
SUMMARY:Field Trip: Rockin' Jump in Mt. Kisco
DESCRIPTION:
URL:https://worldcupgymnastics.com/event/field-trip-rockin-jump-in-mt-kisco/
END:VEVENT
END:VCALENDAR