BEGIN:VCALENDAR
VERSION:2.0
PRODID:-//World Cup - ECPv6.15.20//NONSGML v1.0//EN
CALSCALE:GREGORIAN
METHOD:PUBLISH
X-WR-CALNAME:World Cup
X-ORIGINAL-URL:https://worldcupgymnastics.com
X-WR-CALDESC:Events for World Cup
REFRESH-INTERVAL;VALUE=DURATION:PT1H
X-Robots-Tag:noindex
X-PUBLISHED-TTL:PT1H
BEGIN:VTIMEZONE
TZID:UTC
BEGIN:STANDARD
TZOFFSETFROM:+0000
TZOFFSETTO:+0000
TZNAME:UTC
DTSTART:20230101T000000
END:STANDARD
END:VTIMEZONE
BEGIN:VEVENT
DTSTART;VALUE=DATE:20240704
DTEND;VALUE=DATE:20240705
DTSTAMP:20260424T161518
CREATED:20240701T180505Z
LAST-MODIFIED:20240701T180505Z
UID:7236-1720051200-1720137599@worldcupgymnastics.com
SUMMARY:Fourth Of July
DESCRIPTION:No Classes.
URL:https://worldcupgymnastics.com/event/fourth-of-july/
END:VEVENT
BEGIN:VEVENT
DTSTART;VALUE=DATE:20240710
DTEND;VALUE=DATE:20240711
DTSTAMP:20260424T161518
CREATED:20240701T180859Z
LAST-MODIFIED:20240701T180859Z
UID:7242-1720569600-1720655999@worldcupgymnastics.com
SUMMARY:Field Trip: Cortlandt Lanes
DESCRIPTION:
URL:https://worldcupgymnastics.com/event/field-trip-cortlandt-lanes/
END:VEVENT
BEGIN:VEVENT
DTSTART;VALUE=DATE:20240725
DTEND;VALUE=DATE:20240726
DTSTAMP:20260424T161518
CREATED:20240701T182050Z
LAST-MODIFIED:20240701T182416Z
UID:7247-1721865600-1721951999@worldcupgymnastics.com
SUMMARY:Field Trip: Pottery Factory
DESCRIPTION:
URL:https://worldcupgymnastics.com/event/week-4-go-for-olympic-gold/
END:VEVENT
END:VCALENDAR