BEGIN:VCALENDAR
VERSION:2.0
PRODID:-//World Cup - ECPv6.15.20//NONSGML v1.0//EN
CALSCALE:GREGORIAN
METHOD:PUBLISH
X-WR-CALNAME:World Cup
X-ORIGINAL-URL:https://worldcupgymnastics.com
X-WR-CALDESC:Events for World Cup
REFRESH-INTERVAL;VALUE=DURATION:PT1H
X-Robots-Tag:noindex
X-PUBLISHED-TTL:PT1H
BEGIN:VTIMEZONE
TZID:UTC
BEGIN:STANDARD
TZOFFSETFROM:+0000
TZOFFSETTO:+0000
TZNAME:UTC
DTSTART:20230101T000000
END:STANDARD
END:VTIMEZONE
BEGIN:VEVENT
DTSTART;TZID=UTC:20241002T160000
DTEND;TZID=UTC:20241002T210000
DTSTAMP:20260424T122635
CREATED:20190725T154745Z
LAST-MODIFIED:20240919T164629Z
UID:4381-1727884800-1727902800@worldcupgymnastics.com
SUMMARY:Rosh Hashana Half Day
DESCRIPTION:All classes before 4pm will operate as normal.\nNo Rec classes after 4pm\nTeam practice will run as normal.
URL:https://worldcupgymnastics.com/event/rosh-hashana-half-day-2/
ATTACH;FMTTYPE=image/png:https://worldcupgymnastics.com/wp-content/uploads/2019/07/rh20greetings_603986_resize_990__1_-e1726764349934.png
END:VEVENT
BEGIN:VEVENT
DTSTART;VALUE=DATE:20241003
DTEND;VALUE=DATE:20241004
DTSTAMP:20260424T122635
CREATED:20190725T153722Z
LAST-MODIFIED:20240919T165330Z
UID:4377-1727913600-1727999999@worldcupgymnastics.com
SUMMARY:Rosh Hashana
DESCRIPTION:Rosh Hashanah – NO CLASSES
URL:https://worldcupgymnastics.com/event/rosh-hashana/
ATTACH;FMTTYPE=image/png:https://worldcupgymnastics.com/wp-content/uploads/2019/07/rh20greetings_603986_resize_990__1_-e1726764349934.png
END:VEVENT
BEGIN:VEVENT
DTSTART;TZID=UTC:20241011T160000
DTEND;TZID=UTC:20241011T210000
DTSTAMP:20260424T122635
CREATED:20230808T191228Z
LAST-MODIFIED:20241005T143004Z
UID:6783-1728662400-1728680400@worldcupgymnastics.com
SUMMARY:Yom Kippur
DESCRIPTION:Morning Preschool classes as scheduled. \nNo Recreational classes from 4pm to 9pm. \nNo Team Practice.
URL:https://worldcupgymnastics.com/event/yom-kippur-2/
ATTACH;FMTTYPE=image/jpeg:https://worldcupgymnastics.com/wp-content/uploads/2023/08/yom-kip.jpg
END:VEVENT
BEGIN:VEVENT
DTSTART;VALUE=DATE:20241012
DTEND;VALUE=DATE:20241013
DTSTAMP:20260424T122635
CREATED:20190725T161735Z
LAST-MODIFIED:20241005T143054Z
UID:4384-1728691200-1728777599@worldcupgymnastics.com
SUMMARY:Yom Kippur
DESCRIPTION:NO CLASSES \nNO TEAM PRACTICE
URL:https://worldcupgymnastics.com/event/yom-kippur-half-day/
ATTACH;FMTTYPE=image/jpeg:https://worldcupgymnastics.com/wp-content/uploads/2023/08/yom-kip.jpg
END:VEVENT
BEGIN:VEVENT
DTSTART;VALUE=DATE:20241014
DTEND;VALUE=DATE:20241015
DTSTAMP:20260424T122635
CREATED:20190725T172310Z
LAST-MODIFIED:20241005T143157Z
UID:4391-1728864000-1728950399@worldcupgymnastics.com
SUMMARY:Indigenous People's Day
DESCRIPTION:NO CLASSES \nNO TEAM PRACTICE
URL:https://worldcupgymnastics.com/event/columbus-day/
ATTACH;FMTTYPE=image/jpeg:https://worldcupgymnastics.com/wp-content/uploads/2019/07/indigenous-peoples-day-thumbnail-1140x720-1-1024x647-1.jpg
END:VEVENT
BEGIN:VEVENT
DTSTART;VALUE=DATE:20241031
DTEND;VALUE=DATE:20241101
DTSTAMP:20260424T122635
CREATED:20190725T173022Z
LAST-MODIFIED:20240919T174539Z
UID:4395-1730332800-1730419199@worldcupgymnastics.com
SUMMARY:Halloween
DESCRIPTION:Happy Halloween. \nPre School and Pre Rec classes are running \nNo classes from 4pm to 9pm \nNo team practice.
URL:https://worldcupgymnastics.com/event/holloween/
ATTACH;FMTTYPE=image/jpeg:https://worldcupgymnastics.com/wp-content/uploads/2019/07/360_F_226420352_RVF4lqUk732H9uAnQxnr0Prqd3RfYOLp.jpg
END:VEVENT
END:VCALENDAR