BEGIN:VCALENDAR
VERSION:2.0
PRODID:-//World Cup - ECPv6.15.20//NONSGML v1.0//EN
CALSCALE:GREGORIAN
METHOD:PUBLISH
X-ORIGINAL-URL:https://worldcupgymnastics.com
X-WR-CALDESC:Events for World Cup
REFRESH-INTERVAL;VALUE=DURATION:PT1H
X-Robots-Tag:noindex
X-PUBLISHED-TTL:PT1H
BEGIN:VTIMEZONE
TZID:UTC
BEGIN:STANDARD
TZOFFSETFROM:+0000
TZOFFSETTO:+0000
TZNAME:UTC
DTSTART:20230101T000000
END:STANDARD
END:VTIMEZONE
BEGIN:VEVENT
DTSTART;VALUE=DATE:20241111
DTEND;VALUE=DATE:20241112
DTSTAMP:20260424T112402
CREATED:20230808T191647Z
LAST-MODIFIED:20240919T174839Z
UID:6791-1731283200-1731369599@worldcupgymnastics.com
SUMMARY:Veterans' Day
DESCRIPTION:NO CLASSES \nNO TEAM PRACTICE
URL:https://worldcupgymnastics.com/event/veterans-day-2/
ATTACH;FMTTYPE=image/jpeg:https://worldcupgymnastics.com/wp-content/uploads/2023/08/max1200.jpg
END:VEVENT
BEGIN:VEVENT
DTSTART;VALUE=DATE:20241128
DTEND;VALUE=DATE:20241202
DTSTAMP:20260424T112402
CREATED:20190725T181248Z
LAST-MODIFIED:20240919T175103Z
UID:4397-1732752000-1733097599@worldcupgymnastics.com
SUMMARY:Thanksgiving
DESCRIPTION:Happy Thanksgiving! \nNO CLASSES \nNO TEAM PRACTICE \n  \n 
URL:https://worldcupgymnastics.com/event/thanksgiving/
ATTACH;FMTTYPE=image/jpeg:https://worldcupgymnastics.com/wp-content/uploads/2019/07/Happy-Thanks-Giving.jpg
END:VEVENT
END:VCALENDAR