BEGIN:VCALENDAR
VERSION:2.0
PRODID:-//World Cup - ECPv6.15.20//NONSGML v1.0//EN
CALSCALE:GREGORIAN
METHOD:PUBLISH
X-ORIGINAL-URL:https://worldcupgymnastics.com
X-WR-CALDESC:Events for World Cup
REFRESH-INTERVAL;VALUE=DURATION:PT1H
X-Robots-Tag:noindex
X-PUBLISHED-TTL:PT1H
BEGIN:VTIMEZONE
TZID:UTC
BEGIN:STANDARD
TZOFFSETFROM:+0000
TZOFFSETTO:+0000
TZNAME:UTC
DTSTART:20230101T000000
END:STANDARD
END:VTIMEZONE
BEGIN:VEVENT
DTSTART;VALUE=DATE:20241128
DTEND;VALUE=DATE:20241202
DTSTAMP:20260424T101343
CREATED:20190725T181248Z
LAST-MODIFIED:20240919T175103Z
UID:4397-1732752000-1733097599@worldcupgymnastics.com
SUMMARY:Thanksgiving
DESCRIPTION:Happy Thanksgiving! \nNO CLASSES \nNO TEAM PRACTICE \n  \n 
URL:https://worldcupgymnastics.com/event/thanksgiving/
ATTACH;FMTTYPE=image/jpeg:https://worldcupgymnastics.com/wp-content/uploads/2019/07/Happy-Thanks-Giving.jpg
END:VEVENT
BEGIN:VEVENT
DTSTART;TZID=UTC:20241223T000000
DTEND;TZID=UTC:20250101T000000
DTSTAMP:20260424T101343
CREATED:20230808T192311Z
LAST-MODIFIED:20240919T175809Z
UID:6799-1734912000-1735689600@worldcupgymnastics.com
SUMMARY:Holiday Break
DESCRIPTION:HOLIDAY BREAK \nNO CLASSES \nNO TEAM PRACTICE
URL:https://worldcupgymnastics.com/event/holiday-break/
ATTACH;FMTTYPE=image/jpeg:https://worldcupgymnastics.com/wp-content/uploads/2023/08/HappyHolidays-2021-Blog.jpg
END:VEVENT
BEGIN:VEVENT
DTSTART;VALUE=DATE:20241226
DTEND;VALUE=DATE:20241227
DTSTAMP:20260424T101343
CREATED:20181127T193900Z
LAST-MODIFIED:20240919T180344Z
UID:3544-1735171200-1735257599@worldcupgymnastics.com
SUMMARY:Spring Tuition Payments Due
DESCRIPTION:Spring payment for gymnastics classes due (you must advise us before this date if your child will not be continuing after January 26\, 2025)
URL:https://worldcupgymnastics.com/event/spring-tuition-payments-due/
ATTACH;FMTTYPE=image/jpeg:https://worldcupgymnastics.com/wp-content/uploads/2018/11/1000_F_714120586_94TA7Hg3wmJTu4cQrEVkUq1EKXfOlHUP.jpg
END:VEVENT
BEGIN:VEVENT
DTSTART;TZID=UTC:20241227T090000
DTEND;TZID=UTC:20241227T143000
DTSTAMP:20260424T101343
CREATED:20241217T173007Z
LAST-MODIFIED:20241217T180234Z
UID:7490-1735290000-1735309800@worldcupgymnastics.com
SUMMARY:Special Days - Snow Globes!
DESCRIPTION:Winter Special Days! \n9:30 – 2:30 for ages 5 – 12. \nKids will do lots of gymnastics\, a fun art project and a delicious food project each day.  You don’t have to be a World Cup member to attend Special Days (you just need an account on our Customer Portal)\, so invite your family and friends! \nA day full of fun for $90 for your first child and a 10% discount for your second child.  Children should arrive with a light snack and sack lunch.
URL:https://worldcupgymnastics.com/event/special-days-snow-globes/
ATTACH;FMTTYPE=image/jpeg:https://worldcupgymnastics.com/wp-content/uploads/2024/12/Snow-Globes.jpg
END:VEVENT
END:VCALENDAR