BEGIN:VCALENDAR
VERSION:2.0
PRODID:-//World Cup - ECPv6.15.20//NONSGML v1.0//EN
CALSCALE:GREGORIAN
METHOD:PUBLISH
X-ORIGINAL-URL:https://worldcupgymnastics.com
X-WR-CALDESC:Events for World Cup
REFRESH-INTERVAL;VALUE=DURATION:PT1H
X-Robots-Tag:noindex
X-PUBLISHED-TTL:PT1H
BEGIN:VTIMEZONE
TZID:UTC
BEGIN:STANDARD
TZOFFSETFROM:+0000
TZOFFSETTO:+0000
TZNAME:UTC
DTSTART:20240101T000000
END:STANDARD
END:VTIMEZONE
BEGIN:VEVENT
DTSTART;VALUE=DATE:20250217
DTEND;VALUE=DATE:20250218
DTSTAMP:20260424T075625
CREATED:20190801T141833Z
LAST-MODIFIED:20240919T182134Z
UID:4420-1739750400-1739836799@worldcupgymnastics.com
SUMMARY:Presidents Day
DESCRIPTION:NO CLASSES \nNO TEAM PRACTICE
URL:https://worldcupgymnastics.com/event/presidents-day/
ATTACH;FMTTYPE=image/jpeg:https://worldcupgymnastics.com/wp-content/uploads/2019/08/man-avatar-cartoon-usa-happy-presidents-day-vector-28946274-e1726770061827.jpg
END:VEVENT
BEGIN:VEVENT
DTSTART;VALUE=DATE:20250218
DTEND;VALUE=DATE:20250224
DTSTAMP:20260424T075625
CREATED:20221007T130048Z
LAST-MODIFIED:20240919T183339Z
UID:6471-1739836800-1740355199@worldcupgymnastics.com
SUMMARY:Winter Break
DESCRIPTION:Classes running on normal schedule.
URL:https://worldcupgymnastics.com/event/winter-break/
ATTACH;FMTTYPE=image/jpeg:https://worldcupgymnastics.com/wp-content/uploads/2022/10/istockphoto-1831776423-612x612-1.jpg
END:VEVENT
BEGIN:VEVENT
DTSTART;TZID=UTC:20250222T080000
DTEND;TZID=UTC:20250222T200000
DTSTAMP:20260424T075625
CREATED:20230808T195120Z
LAST-MODIFIED:20250115T232538Z
UID:6813-1740211200-1740254400@worldcupgymnastics.com
SUMMARY:World Cup Challenge - Boys Meet
DESCRIPTION:NO CLASSES \nNO TEAM PRACTICE \nNO BIRTHDAY PARTIES
URL:https://worldcupgymnastics.com/event/world-cup-challenge-boys-meet/
ATTACH;FMTTYPE=image/png:https://worldcupgymnastics.com/wp-content/uploads/2023/08/WCC-14-cover.png
END:VEVENT
END:VCALENDAR