BEGIN:VCALENDAR
VERSION:2.0
PRODID:-//World Cup - ECPv6.15.20//NONSGML v1.0//EN
CALSCALE:GREGORIAN
METHOD:PUBLISH
X-WR-CALNAME:World Cup
X-ORIGINAL-URL:https://worldcupgymnastics.com
X-WR-CALDESC:Events for World Cup
REFRESH-INTERVAL;VALUE=DURATION:PT1H
X-Robots-Tag:noindex
X-PUBLISHED-TTL:PT1H
BEGIN:VTIMEZONE
TZID:UTC
BEGIN:STANDARD
TZOFFSETFROM:+0000
TZOFFSETTO:+0000
TZNAME:UTC
DTSTART:20240101T000000
END:STANDARD
END:VTIMEZONE
BEGIN:VEVENT
DTSTART;VALUE=DATE:20251205
DTEND;VALUE=DATE:20251206
DTSTAMP:20260423T193550
CREATED:20250602T153733Z
LAST-MODIFIED:20251203T171611Z
UID:7673-1764892800-1764979199@worldcupgymnastics.com
SUMMARY:Staff Holiday Party
DESCRIPTION:No Recreational Classes after 4pm.  Teams check with coaches.
URL:https://worldcupgymnastics.com/event/staff-holiday-party/
ATTACH;FMTTYPE=image/jpeg:https://worldcupgymnastics.com/wp-content/uploads/2025/06/1-Office-Holiday-Party.jpg
END:VEVENT
BEGIN:VEVENT
DTSTART;VALUE=DATE:20251206
DTEND;VALUE=DATE:20251208
DTSTAMP:20260423T193550
CREATED:20251203T200034Z
LAST-MODIFIED:20251203T200253Z
UID:7842-1764979200-1765151999@worldcupgymnastics.com
SUMMARY:GT Meet - Greater NY Invite
DESCRIPTION:Girls Team Away Meet – Greater NY Invite  Suffern\, NY \nScratch deadline 11/3/25
URL:https://worldcupgymnastics.com/event/gt-meet-greater-ny-invite/
ATTACH;FMTTYPE=image/jpeg:https://worldcupgymnastics.com/wp-content/uploads/2025/12/greater-NY-Invite.jpg
END:VEVENT
BEGIN:VEVENT
DTSTART;TZID=UTC:20251206T180000
DTEND;TZID=UTC:20251206T220000
DTSTAMP:20260423T193550
CREATED:20241218T162008Z
LAST-MODIFIED:20251203T192306Z
UID:7505-1765044000-1765058400@worldcupgymnastics.com
SUMMARY:Kid's Night Out - Paint Your Own Ornament
DESCRIPTION:Join us for a fun time from 6pm-10pm! \nKids ages 5-12 will do lots of gymnastics\, play Hide & Go Seek and another fun gym games\, do a craft\, have pizza and an ice pop and end the evening with a movie. \nYou may pick your child up anytime up to 10:00 p.m.  Signup is $5 more per child the same day as the event\, so sign up early for best availability!
URL:https://worldcupgymnastics.com/event/paint-your-own-ornament/
ATTACH;FMTTYPE=image/jpeg:https://worldcupgymnastics.com/wp-content/uploads/2024/12/KNO-Pic-2-Copy.jpg
END:VEVENT
BEGIN:VEVENT
DTSTART;VALUE=DATE:20251210
DTEND;VALUE=DATE:20251211
DTSTAMP:20260423T193550
CREATED:20250602T154120Z
LAST-MODIFIED:20250602T154120Z
UID:7675-1765324800-1765411199@worldcupgymnastics.com
SUMMARY:No Romperee Classes (Nursery School's Holiday Sing-a-long)
DESCRIPTION:
URL:https://worldcupgymnastics.com/event/no-romperee-classes-nursery-schools-holiday-sing-a-long/
END:VEVENT
BEGIN:VEVENT
DTSTART;TZID=UTC:20251213T180000
DTEND;TZID=UTC:20251213T220000
DTSTAMP:20260423T193550
CREATED:20191216T180642Z
LAST-MODIFIED:20251203T192539Z
UID:5223-1765648800-1765663200@worldcupgymnastics.com
SUMMARY:Kids Night Out! - Jingle All  The Way
DESCRIPTION:Join us for a fun time from 6pm-10pm! \nKids ages 5-12 will do lots of gymnastics\, play Hide & Go Seek and another fun gym games\, do a craft\, have pizza and an ice pop and end the evening with a movie. \nYou may pick your child up anytime up to 10:00 p.m.  Signup is $5 more per child the same day as the event\, so sign up early for best availability!
URL:https://worldcupgymnastics.com/event/jingle-all-the-way/
ATTACH;FMTTYPE=image/jpeg:https://worldcupgymnastics.com/wp-content/uploads/2024/12/KNO-Pic-2-Copy.jpg
END:VEVENT
BEGIN:VEVENT
DTSTART;VALUE=DATE:20251214
DTEND;VALUE=DATE:20251215
DTSTAMP:20260423T193550
CREATED:20250602T154323Z
LAST-MODIFIED:20250602T154323Z
UID:7677-1765670400-1765756799@worldcupgymnastics.com
SUMMARY:Hanukkah begins
DESCRIPTION:No classes 4 pm on.
URL:https://worldcupgymnastics.com/event/hanukkah-begins/
END:VEVENT
BEGIN:VEVENT
DTSTART;VALUE=DATE:20251218
DTEND;VALUE=DATE:20251219
DTSTAMP:20260423T193550
CREATED:20250602T154435Z
LAST-MODIFIED:20250602T154435Z
UID:7679-1766016000-1766102399@worldcupgymnastics.com
SUMMARY:Spring Payment for Gymnastics Classes Due
DESCRIPTION:Reminder: re-enrollment is automatic\, unless you tell us otherwise.
URL:https://worldcupgymnastics.com/event/spring-payment-for-gymnastics-classes-due/
END:VEVENT
BEGIN:VEVENT
DTSTART;VALUE=DATE:20251224
DTEND;VALUE=DATE:20251226
DTSTAMP:20260423T193550
CREATED:20251203T173554Z
LAST-MODIFIED:20251203T173554Z
UID:7811-1766534400-1766707199@worldcupgymnastics.com
SUMMARY:Christmas Gym Closed
DESCRIPTION:GYM CLOSED Dec 24 & 25
URL:https://worldcupgymnastics.com/event/christmas-gym-closed/
ATTACH;FMTTYPE=image/jpeg:https://worldcupgymnastics.com/wp-content/uploads/2025/12/2-Christmas-1.jpg
END:VEVENT
BEGIN:VEVENT
DTSTART;VALUE=DATE:20251226
DTEND;VALUE=DATE:20251231
DTSTAMP:20260423T193550
CREATED:20250602T154759Z
LAST-MODIFIED:20251203T174006Z
UID:7681-1766707200-1767139199@worldcupgymnastics.com
SUMMARY:December Holiday Break
DESCRIPTION:No Romperee\, Preschool & Recreational Classes.  Teams check with coaches.
URL:https://worldcupgymnastics.com/event/december-holiday-break-2/
ATTACH;FMTTYPE=image/jpeg:https://worldcupgymnastics.com/wp-content/uploads/2025/06/xmas.new-year-combo.jpg
END:VEVENT
BEGIN:VEVENT
DTSTART;VALUE=DATE:20251227
DTEND;VALUE=DATE:20251228
DTSTAMP:20260423T193550
CREATED:20251203T182355Z
LAST-MODIFIED:20251203T182355Z
UID:7819-1766793600-1766879999@worldcupgymnastics.com
SUMMARY:Boys Team Intersquad L4-10
DESCRIPTION:Boys Team Intersquad Meet Level 4-10 \nCheck times with coaches.
URL:https://worldcupgymnastics.com/event/boys-team-intersquad-l4-10/
ATTACH;FMTTYPE=image/jpeg:https://worldcupgymnastics.com/wp-content/uploads/2025/12/BT-Intersquad.jpg
END:VEVENT
BEGIN:VEVENT
DTSTART;TZID=UTC:20251229T093000
DTEND;TZID=UTC:20251230T143000
DTSTAMP:20260423T193550
CREATED:20241217T173324Z
LAST-MODIFIED:20251203T171534Z
UID:7494-1767000600-1767105000@worldcupgymnastics.com
SUMMARY:Special Camp Days Dec 29 & 30
DESCRIPTION:December Special Days & Happy New Year! \n9:30 – 2:30 for ages 5 – 12. \nKids will do lots of gymnastics\, games & a fun art project each day.  You don’t have to be a World Cup member to attend Special Days (you just need an account on our Customer Portal)\, so invite your family and friends! \nChildren should arrive with a light snack and sack lunch. \nMembers $90 for your first child and a 10% discount for your second child. \nNon-Members $100 for your first child and a 10% discount for your second child.
URL:https://worldcupgymnastics.com/event/special-camp-days-happy-new-year/
ATTACH;FMTTYPE=image/jpeg:https://worldcupgymnastics.com/wp-content/uploads/2024/12/3-Winter-Break-Camp-1.jpg
END:VEVENT
BEGIN:VEVENT
DTSTART;VALUE=DATE:20251231
DTEND;VALUE=DATE:20260102
DTSTAMP:20260423T193550
CREATED:20251203T173724Z
LAST-MODIFIED:20251203T173724Z
UID:7815-1767139200-1767311999@worldcupgymnastics.com
SUMMARY:New Years Gym Closed
DESCRIPTION:GYM CLOSED Dec 31 & Jan 1
URL:https://worldcupgymnastics.com/event/new-years-gym-closed/
ATTACH;FMTTYPE=image/jpeg:https://worldcupgymnastics.com/wp-content/uploads/2025/12/4-New-Year-1.jpg
END:VEVENT
END:VCALENDAR